Workbook

Sheet Audit Overview
A1: Auditor
A2: Report Creator
A3: Evaluation Date
A5: Report Summary (Auditor Notes)
A8: Scope of Audit
A9: Product Name
A10: Scope of Product
A11: WCAG Version | C11: WCAG 2.1
A12: Conformance Target | C12: AA
A13: Tool Requirement | C13: axe DevTool (Auto) + Apple VoiceOver (Manul)
A14: WCAG Quick Reference | C14: LINK
A16: Audit Results (Summary)
A17: Supports | C17: =SUM(E26:E103) -> 14
A18: Partially supports | C18: =SUM(F26:F103) -> 5
A19: Not supported | C19: =SUM(G26:G103) -> 9
A20: Cannot tell | C20: =SUM(H26:H103) -> 0
A21: Not applicatble | C21: =SUM(I26:I103) -> 386
A22: Not checked | C22: =SUM(J26:J103) -> 600
A24: Audit Results (All Results)
A25: Sl. | B25: Criteria Group | C25: Criteria | D25: Level | E25: Support | F25: Partially supports | G25: Not supported | H25: Cannot tell | I25: Not applicable | J25: Not checked
A26: 1 | B26: ='Audit Detail'!D1 -> 1.1 – Text Alternatives | C26: ='Audit Detail'!D3 -> 1.1.1 Non-text Content | D26: ='Audit Detail'!D5 -> Level A | E26: =COUNTIF('Audit Detail'!$D$7:$D$19,E$25) -> 0 | F26: =COUNTIF('Audit Detail'!$D$7:$D$19,F$25) -> 0 | G26: =COUNTIF('Audit Detail'!$D$7:$D$19,G$25) -> 1 | H26: =COUNTIF('Audit Detail'!$D$7:$D$19,H$25) -> 0 | I26: =COUNTIF('Audit Detail'!$D$7:$D$19,I$25) -> 0 | J26: =COUNTIF('Audit Detail'!$D$7:$D$19,J$25) -> 12
A27: 2 | B27: ='Audit Detail'!F1 -> 1.2 – Time-based Media | C27: ='Audit Detail'!F3 -> 1.2.1 Audio-only and Video-only (Prerecorded) | D27: ='Audit Detail'!F5 -> Level A | E27: =COUNTIF('Audit Detail'!$F$7:$F$19,E$25) -> 0 | F27: =COUNTIF('Audit Detail'!$F$7:$F$19,F$25) -> 0 | G27: =COUNTIF('Audit Detail'!$F$7:$F$19,G$25) -> 0 | H27: =COUNTIF('Audit Detail'!$F$7:$F$19,H$25) -> 0 | I27: =COUNTIF('Audit Detail'!$F$7:$F$19,I$25) -> 1 | J27: =COUNTIF('Audit Detail'!$F$7:$F$19,J$25) -> 12
A28: 3 | C28: ='Audit Detail'!H3 -> 1.2.2 Captions (Prerecorded) | D28: ='Audit Detail'!H5 -> Level A | E28: =COUNTIF('Audit Detail'!$H$7:$H$19,E$25) -> 0 | F28: =COUNTIF('Audit Detail'!$H$7:$H$19,F$25) -> 0 | G28: =COUNTIF('Audit Detail'!$H$7:$H$19,G$25) -> 0 | H28: =COUNTIF('Audit Detail'!$H$7:$H$19,H$25) -> 0 | I28: =COUNTIF('Audit Detail'!$H$7:$H$19,I$25) -> 1 | J28: =COUNTIF('Audit Detail'!$H$7:$H$19,J$25) -> 12
A29: 4 | C29: ='Audit Detail'!J3 -> 1.2.3 Audio Description or Media Alternative (Prerecorded) | D29: ='Audit Detail'!J5 -> Level A | E29: =COUNTIF('Audit Detail'!$J$7:$J$19,E$25) -> 0 | F29: =COUNTIF('Audit Detail'!$J$7:$J$19,F$25) -> 0 | G29: =COUNTIF('Audit Detail'!$J$7:$J$19,G$25) -> 0 | H29: =COUNTIF('Audit Detail'!$J$7:$J$19,H$25) -> 0 | I29: =COUNTIF('Audit Detail'!$J$7:$J$19,I$25) -> 1 | J29: =COUNTIF('Audit Detail'!$J$7:$J$19,J$25) -> 12
A30: 5 | C30: ='Audit Detail'!L3 -> 1.2.4 Captions (Live) | D30: ='Audit Detail'!L5 -> Level AA | E30: =COUNTIF('Audit Detail'!$L$7:$L$19,E$25) -> 0 | F30: =COUNTIF('Audit Detail'!$L$7:$L$19,F$25) -> 0 | G30: =COUNTIF('Audit Detail'!$L$7:$L$19,G$25) -> 0 | H30: =COUNTIF('Audit Detail'!$L$7:$L$19,H$25) -> 0 | I30: =COUNTIF('Audit Detail'!$L$7:$L$19,I$25) -> 1 | J30: =COUNTIF('Audit Detail'!$L$7:$L$19,J$25) -> 12
A31: 6 | C31: ='Audit Detail'!N3 -> 1.2.5 Audio Description (Prerecorded) | D31: ='Audit Detail'!N5 -> Level AA | E31: =COUNTIF('Audit Detail'!$N$7:$N$19,E$25) -> 0 | F31: =COUNTIF('Audit Detail'!$N$7:$N$19,F$25) -> 0 | G31: =COUNTIF('Audit Detail'!$N$7:$N$19,G$25) -> 0 | H31: =COUNTIF('Audit Detail'!$N$7:$N$19,H$25) -> 0 | I31: =COUNTIF('Audit Detail'!$N$7:$N$19,I$25) -> 1 | J31: =COUNTIF('Audit Detail'!$N$7:$N$19,J$25) -> 12
A32: 7 | C32: ='Audit Detail'!P3 -> 1.2.6 Sign Language (Prerecorded) | D32: ='Audit Detail'!P5 -> Level AAA | E32: =COUNTIF('Audit Detail'!$P$7:$P$19,E$25) -> 0 | F32: =COUNTIF('Audit Detail'!$P$7:$P$19,F$25) -> 0 | G32: =COUNTIF('Audit Detail'!$P$7:$P$19,G$25) -> 0 | H32: =COUNTIF('Audit Detail'!$P$7:$P$19,H$25) -> 0 | I32: =COUNTIF('Audit Detail'!$P$7:$P$19,I$25) -> 13 | J32: =COUNTIF('Audit Detail'!$P$7:$P$19,J$25) -> 0
A33: 8 | C33: ='Audit Detail'!R3 -> 1.2.7 Extended Audio Description (Prerecorded) | D33: ='Audit Detail'!R5 -> Level AAA | E33: =COUNTIF('Audit Detail'!$R$7:$R$19,E$25) -> 0 | F33: =COUNTIF('Audit Detail'!$R$7:$R$19,F$25) -> 0 | G33: =COUNTIF('Audit Detail'!$R$7:$R$19,G$25) -> 0 | H33: =COUNTIF('Audit Detail'!$R$7:$R$19,H$25) -> 0 | I33: =COUNTIF('Audit Detail'!$R$7:$R$19,I$25) -> 13 | J33: =COUNTIF('Audit Detail'!$R$7:$R$19,J$25) -> 0
A34: 9 | C34: ='Audit Detail'!T3 -> 1.2.8 Media Alternative (Prerecorded) | D34: ='Audit Detail'!T5 -> Level AAA | E34: =COUNTIF('Audit Detail'!$T$7:$T$19,E$25) -> 0 | F34: =COUNTIF('Audit Detail'!$T$7:$T$19,F$25) -> 0 | G34: =COUNTIF('Audit Detail'!$T$7:$T$19,G$25) -> 0 | H34: =COUNTIF('Audit Detail'!$T$7:$T$19,H$25) -> 0 | I34: =COUNTIF('Audit Detail'!$T$7:$T$19,I$25) -> 13 | J34: =COUNTIF('Audit Detail'!$T$7:$T$19,J$25) -> 0
A35: 10 | C35: ='Audit Detail'!V3 -> 1.2.9 Audio-only (Live) | D35: ='Audit Detail'!V5 -> Level AAA | E35: =COUNTIF('Audit Detail'!$V$7:$V$19,E$25) -> 0 | F35: =COUNTIF('Audit Detail'!$V$7:$V$19,F$25) -> 0 | G35: =COUNTIF('Audit Detail'!$V$7:$V$19,G$25) -> 0 | H35: =COUNTIF('Audit Detail'!$V$7:$V$19,H$25) -> 0 | I35: =COUNTIF('Audit Detail'!$V$7:$V$19,I$25) -> 13 | J35: =COUNTIF('Audit Detail'!$V$7:$V$19,J$25) -> 0
A36: 11 | B36: ='Audit Detail'!X1 -> 1.3 – Adaptable | C36: ='Audit Detail'!X3 -> 1.3.1 Info and Relationships | D36: ='Audit Detail'!X5 -> Level A | E36: =COUNTIF('Audit Detail'!$X$7:$X$19,E$25) -> 0 | F36: =COUNTIF('Audit Detail'!$X$7:$X$19,F$25) -> 0 | G36: =COUNTIF('Audit Detail'!$X$7:$X$19,G$25) -> 1 | H36: =COUNTIF('Audit Detail'!$X$7:$X$19,H$25) -> 0 | I36: =COUNTIF('Audit Detail'!$X$7:$X$19,I$25) -> 0 | J36: =COUNTIF('Audit Detail'!$X$7:$X$19,J$25) -> 12
A37: 12 | C37: ='Audit Detail'!Z3 -> 1.3.2 Meaningful Sequence | D37: ='Audit Detail'!Z5 -> Level A | E37: =COUNTIF('Audit Detail'!$Z$7:$Z$19,E$25) -> 1 | F37: =COUNTIF('Audit Detail'!$Z$7:$Z$19,F$25) -> 0 | G37: =COUNTIF('Audit Detail'!$Z$7:$Z$19,G$25) -> 0 | H37: =COUNTIF('Audit Detail'!$Z$7:$Z$19,H$25) -> 0 | I37: =COUNTIF('Audit Detail'!$Z$7:$Z$19,I$25) -> 0 | J37: =COUNTIF('Audit Detail'!$Z$7:$Z$19,J$25) -> 12
A38: 13 | C38: ='Audit Detail'!AB3 -> 1.3.3 Sensory Characteristics | D38: ='Audit Detail'!AB5 -> Level A | E38: =COUNTIF('Audit Detail'!$AB$7:$AB$19,E$25) -> 0 | F38: =COUNTIF('Audit Detail'!$AB$7:$AB$19,F$25) -> 0 | G38: =COUNTIF('Audit Detail'!$AB$7:$AB$19,G$25) -> 0 | H38: =COUNTIF('Audit Detail'!$AB$7:$AB$19,H$25) -> 0 | I38: =COUNTIF('Audit Detail'!$AB$7:$AB$19,I$25) -> 1 | J38: =COUNTIF('Audit Detail'!$AB$7:$AB$19,J$25) -> 12
A39: 14 | C39: ='Audit Detail'!AD3 -> 1.3.4 Orientation | D39: ='Audit Detail'!AD5 -> Level AA | E39: =COUNTIF('Audit Detail'!$AD$7:$AD$19,E$25) -> 1 | F39: =COUNTIF('Audit Detail'!$AD$7:$AD$19,F$25) -> 0 | G39: =COUNTIF('Audit Detail'!$AD$7:$AD$19,G$25) -> 0 | H39: =COUNTIF('Audit Detail'!$AD$7:$AD$19,H$25) -> 0 | I39: =COUNTIF('Audit Detail'!$AD$7:$AD$19,I$25) -> 0 | J39: =COUNTIF('Audit Detail'!$AD$7:$AD$19,J$25) -> 12
A40: 15 | C40: ='Audit Detail'!AF3 -> 1.3.5 Identify Input Purpose | D40: ='Audit Detail'!AF5 -> Level AA | E40: =COUNTIF('Audit Detail'!$AF$7:$AF$19,E$25) -> 1 | F40: =COUNTIF('Audit Detail'!$AF$7:$AF$19,F$25) -> 0 | G40: =COUNTIF('Audit Detail'!$AF$7:$AF$19,G$25) -> 0 | H40: =COUNTIF('Audit Detail'!$AF$7:$AF$19,H$25) -> 0 | I40: =COUNTIF('Audit Detail'!$AF$7:$AF$19,I$25) -> 0 | J40: =COUNTIF('Audit Detail'!$AF$7:$AF$19,J$25) -> 12
A41: 16 | C41: ='Audit Detail'!AH3 -> 1.3.6 Identify Purpose | D41: ='Audit Detail'!AH5 -> Level AAA | E41: =COUNTIF('Audit Detail'!$AH$7:$AH$19,E$25) -> 0 | F41: =COUNTIF('Audit Detail'!$AH$7:$AH$19,F$25) -> 0 | G41: =COUNTIF('Audit Detail'!$AH$7:$AH$19,G$25) -> 0 | H41: =COUNTIF('Audit Detail'!$AH$7:$AH$19,H$25) -> 0 | I41: =COUNTIF('Audit Detail'!$AH$7:$AH$19,I$25) -> 13 | J41: =COUNTIF('Audit Detail'!$AH$7:$AH$19,J$25) -> 0
A42: 17 | B42: ='Audit Detail'!AJ1 -> 1.4 – Distinguishable | C42: ='Audit Detail'!AJ3 -> 1.4.1 Use of Color | D42: ='Audit Detail'!AJ5 -> Level A | E42: =COUNTIF('Audit Detail'!$AJ$7:$AJ$19,E$25) -> 0 | F42: =COUNTIF('Audit Detail'!$AJ$7:$AJ$19,F$25) -> 0 | G42: =COUNTIF('Audit Detail'!$AJ$7:$AJ$19,G$25) -> 0 | H42: =COUNTIF('Audit Detail'!$AJ$7:$AJ$19,H$25) -> 0 | I42: =COUNTIF('Audit Detail'!$AJ$7:$AJ$19,I$25) -> 1 | J42: =COUNTIF('Audit Detail'!$AJ$7:$AJ$19,J$25) -> 12
A43: 18 | C43: ='Audit Detail'!AL3 -> 1.4.2 Audio Control | D43: ='Audit Detail'!AL5 -> Level A | E43: =COUNTIF('Audit Detail'!$AL$7:$AL$19,E$25) -> 0 | F43: =COUNTIF('Audit Detail'!$AL$7:$AL$19,F$25) -> 0 | G43: =COUNTIF('Audit Detail'!$AL$7:$AL$19,G$25) -> 0 | H43: =COUNTIF('Audit Detail'!$AL$7:$AL$19,H$25) -> 0 | I43: =COUNTIF('Audit Detail'!$AL$7:$AL$19,I$25) -> 1 | J43: =COUNTIF('Audit Detail'!$AL$7:$AL$19,J$25) -> 12
A44: 19 | C44: ='Audit Detail'!AN3 -> 1.4.3 Contrast (Minimum) | D44: ='Audit Detail'!AN5 -> Level AA | E44: =COUNTIF('Audit Detail'!$AN$7:$AN$19,E$25) -> 0 | F44: =COUNTIF('Audit Detail'!$AN$7:$AN$19,F$25) -> 0 | G44: =COUNTIF('Audit Detail'!$AN$7:$AN$19,G$25) -> 1 | H44: =COUNTIF('Audit Detail'!$AN$7:$AN$19,H$25) -> 0 | I44: =COUNTIF('Audit Detail'!$AN$7:$AN$19,I$25) -> 0 | J44: =COUNTIF('Audit Detail'!$AN$7:$AN$19,J$25) -> 12
A45: 20 | C45: ='Audit Detail'!AP3 -> 1.4.4 Resize text | D45: ='Audit Detail'!AP5 -> Level AA | E45: =COUNTIF('Audit Detail'!$AP$7:$AP$19,E$25) -> 1 | F45: =COUNTIF('Audit Detail'!$AP$7:$AP$19,F$25) -> 0 | G45: =COUNTIF('Audit Detail'!$AP$7:$AP$19,G$25) -> 0 | H45: =COUNTIF('Audit Detail'!$AP$7:$AP$19,H$25) -> 0 | I45: =COUNTIF('Audit Detail'!$AP$7:$AP$19,I$25) -> 0 | J45: =COUNTIF('Audit Detail'!$AP$7:$AP$19,J$25) -> 12
...

Sheet Audit Detail
A1: # | B1: Page | C1: Comments | D1: 1.1 – Text Alternatives | F1: 1.2 – Time-based Media | X1: 1.3 – Adaptable | AJ1: 1.4 – Distinguishable | BJ1: 2.1 – Keyboard Accessible | BR1: 2.2 – Enough Time | CD1: 2.3 – Seizures and Physical Reactions | CJ1: 2.4 – Navigable | DD1: 2.5 – Input Modalities | DP1: 3.1 – Readable | EB1: 3.2 – Predictable | EL1: 3.3 – Input Assistance | EX1: 4.1 – Compatible
D2: Provide text alternatives for any non-text content so that it can be changed into other forms people need, such as large print, braille, speech, symbols or simpler language. | F2: Provide alternatives for time-based media. | X2: Create content that can be presented in different ways (for example simpler layout) without losing information or structure. | AJ2: Make it easier for users to see and hear content including separating foreground from background. | BJ2: Make all functionality available from a keyboard. | BR2: Provide users enough time to read and use content. | CD2: Do not design content in a way that is known to cause seizures or physical reactions. | CJ2: Provide ways to help users navigate, find content, and determine where they are. | DD2: Make it easier for users to operate functionality through various inputs beyond keyboard. | DP2: Make text content readable and understandable. | EB2: Make Web pages appear and operate in predictable ways. | EL2: Help users avoid and correct mistakes. | EX2: Maximize compatibility with current and future user agents, including assistive technologies.
D3: 1.1.1 Non-text Content | F3: 1.2.1 Audio-only and Video-only (Prerecorded) | H3: 1.2.2 Captions (Prerecorded) | J3: 1.2.3 Audio Description or Media Alternative (Prerecorded) | L3: 1.2.4 Captions (Live) | N3: 1.2.5 Audio Description (Prerecorded) | P3: 1.2.6 Sign Language (Prerecorded) | R3: 1.2.7 Extended Audio Description (Prerecorded) | T3: 1.2.8 Media Alternative (Prerecorded) | V3: 1.2.9 Audio-only (Live) | X3: 1.3.1 Info and Relationships | Z3: 1.3.2 Meaningful Sequence | AB3: 1.3.3 Sensory Characteristics | AD3: 1.3.4 Orientation | AF3: 1.3.5 Identify Input Purpose | AH3: 1.3.6 Identify Purpose | AJ3: 1.4.1 Use of Color | AL3: 1.4.2 Audio Control | AN3: 1.4.3 Contrast (Minimum) | AP3: 1.4.4 Resize text | AR3: 1.4.5 Images of Text | AT3: 1.4.6 Contrast (Enhanced) | AV3: 1.4.7 Low or No Background Audio | AX3: 1.4.8 Visual Presentation | AZ3: 1.4.9 Images of Text (No Exception) | BB3: 1.4.10 Reflow | BD3: 1.4.11 Non-text Contrast | BF3: 1.4.12 Text Spacing | BH3: 1.4.13 Content on Hover or Focus | BJ3: 2.1.1 Keyboard | BL3: 2.1.2 No Keyboard Trap | BN3: 2.1.3 Keyboard (No Exception) | BP3: 2.1.4 Character Key Shortcuts | BR3: 2.2.1 Timing Adjustable | BT3: 2.2.2 Pause, Stop, Hide | BV3: 2.2.3 No Timing | BX3: 2.2.4 Interruptions | BZ3: 2.2.5 Re-authenticating | CB3: 2.2.6 Timeouts | CD3: 2.3.1 Three Flashes or Below Threshold | CF3: 2.3.2 Three Flashes | CH3: 2.3.3 Animation from Interactions | CJ3: 2.4.1 Bypass Blocks | CL3: 2.4.2 Page Titled | CN3: 2.4.3 Focus Order | CP3: 2.4.4 Link Purpose (In Context) | CR3: 2.4.5 Multiple Ways | CT3: 2.4.6 Headings and Labels | CV3: 2.4.7 Focus Visible | CX3: 2.4.8 Location | CZ3: 2.4.9 Link Purpose (Link Only) | DB3: 2.4.10 Section Headings | DD3: 2.5.1 Pointer Gestures | DF3: 2.5.2 Pointer Cancellation | DH3: 2.5.3 Label in Name | DJ3: 2.5.4 Motion Actuation | DL3: 2.5.5 Target Size | DN3: 2.5.6 Concurrent Input Mechanisms | DP3: 3.1.1 Language of Page | DR3: 3.1.2 Language of Parts | DT3: 3.1.3 Unusual Words | DV3: 3.1.4 Abbreviations | DX3: 3.1.5 Reading Level | DZ3: 3.1.6 Pronunciation | EB3: 3.2.1 On Focus | ED3: 3.2.2 On Input | EF3: 3.2.3 Consistent Navigation | EH3: 3.2.4 Consistent Identification | EJ3: 3.2.5 Change on Request | EL3: 3.3.1 Error Identification | EN3: 3.3.2 Labels or Instructions | EP3: 3.3.3 Error Suggestion | ER3: 3.3.4 Error Prevention (Legal, Financial, Data) | ET3: 3.3.5 Help | EV3: 3.3.6 Error Prevention (All) | EX3: 4.1.1 Parsing | EZ3: 4.1.2 Name, Role, Value | FB3: 4.1.3 Status Messages
D4: All non-text content that is presented to the user has a text alternative that serves the equivalent purpose. | F4: For prerecorded audio-only and prerecorded video-only media, the following are true, except when the audio or video is a media alternative for text and is clearly labeled. | H4: Captions are provided for all prerecorded audio content in synchronized media, except when the media is a media alternative for text and is clearly labeled. | J4: An alternative for time-based media or audio description of the prerecorded video content is provided for synchronized media, except when the media is a media alternative for text and is clearly labeled. | L4: Captions are provided for all live audio content in synchronized media. | N4: Audio description is provided for all prerecorded video content in synchronized media. | P4: Sign language interpretation is provided for all prerecorded audio content in synchronized media. | R4: Where pauses in foreground audio are insufficient to allow audio descriptions to convey the sense of the video, extended audio description is provided for all prerecorded video content in synchronized media. | T4: An alternative for time-based media is provided for all prerecorded synchronized media and for all prerecorded video-only media. | V4: An alternative for time-based media that presents equivalent information for live audio-only content is provided. | X4: Information, structure, and relationships conveyed through presentation can be programmatically determined or are available in text. | Z4: When the sequence in which content is presented affects its meaning, a correct reading sequence can be programmatically determined. | AB4: Instructions provided for understanding and operating content do not rely solely on sensory characteristics of components such as shape, color, size, visual location, orientation, or sound. | AD4: Content does not restrict its view and operation to a single display orientation, such as portrait or landscape, unless a specific display orientation is essential. | AF4: The purpose of each input field collecting information about the user can be programmatically determined. [Auto fill information, separate billing and shipping address] | AH4: In content implemented using markup languages, the purpose of User Interface Components, icons, and regions can be programmatically determined. | AJ4: Color is not used as the only visual means of conveying information, indicating an action, prompting a response, or distinguishing a visual element. | AL4: If any audio on a Web page plays automatically for more than 3 seconds, either a mechanism is available to pause or stop the audio, or a mechanism is available to control audio volume independently from the overall system volume level. | AN4: The visual presentation of text and images of text has a contrast ratio of at least 4.5:1. | AP4: Except for captions and images of text, text can be resized without assistive technology up to 200 percent without loss of content or functionality. | AR4: If the technologies being used can achieve the visual presentation, text is used to convey information rather than images of text. | AT4: The visual presentation of text and images of text has a contrast ratio of at least 7:1. | AV4: For prerecorded audio-only content that (1) contains primarily speech in the foreground, (2) is not an audio CAPTCHA or audio logo, and (3) is not vocalization intended to be primarily musical expression such as singing or rapping. | AX4: For the visual presentation of blocks of text. | AZ4: Images of text are only used for pure decoration or where a particular presentation of text is essential to the information being conveyed. | BB4: Content can be presented without loss of information or functionality, and without requiring scrolling in two dimensions. | BD4: The visual presentation of the following have a contrast ratio of at least 3:1. | BF4: In content implemented using markup languages that support the following text style properties [link for details], no loss of content or functionality occurs by setting all of the following and by changing no other style property [link for details]. | BH4: Where receiving and then removing pointer hover or keyboard focus triggers additional content to become visible and then hidden. | BJ4: All functionality of the content is operable through a keyboard interface without requiring specific timings for individual keystrokes, except where the underlying function requires input that depends on the path of the user's movement and not just the endpoints. | BL4: If keyboard focus can be moved to a component of the page using a keyboard interface, then focus can be moved away from that component using only a keyboard interface, and, if it requires more than unmodified arrow or tab keys or other standard exit methods, the user is advised of the method for moving focus away. | BN4: All functionality of the content is operable through a keyboard interface without requiring specific timings for individual keystrokes. | BP4: If a keyboard shortcut is implemented in content using only letter (including upper- and lower-case letters), punctuation, number, or symbol characters. | BR4: For each time limit that is set by the content. | BT4: For moving, blinking, scrolling, or auto-updating information. | BV4: This guideline is focused on ensuring that users are not pressured by time constraints when interacting with web content, especially for tasks that require careful reading, decision-making, or multiple steps. | BX4: Interruptions can be postponed or suppressed by the user, except interruptions involving an emergency. | BZ4: Users are warned of the duration of any user inactivity that could cause data loss, unless the data is preserved for more than 20 hours when the user does not take any actions. | CB4: Users are warned of the duration of any user inactivity that could cause data loss, unless the data is preserved for more than 20 hours when the user does not take any actions. | CD4: Web pages do not contain anything that flashes more than three times in any one second period, or the flash is below the general flash and red flash thresholds. | CF4: Web pages do not contain anything that flashes more than three times in any one second period. | CH4: Motion animation triggered by interaction can be disabled, unless the animation is essential to the functionality or the information being conveyed. | CJ4: A mechanism is available to bypass blocks of content that are repeated on multiple Web pages. | CL4: Web pages have titles that describe topic or purpose. | CN4: If a Web page can be navigated sequentially and the navigation sequences affect meaning or operation, focusable components receive focus in an order that preserves meaning and operability. | CP4: The purpose of each link can be determined from the link text alone or from the link text together with its programmatically determined link context, except where the purpose of the link would be ambiguous to users in general. | CR4: More than one way is available to locate a Web page within a set of Web pages except where the Web Page is the result of, or a step in, a process. | CT4: Headings and labels describe topic or purpose. | CV4: Any keyboard operable user interface has a mode of operation where the keyboard focus indicator is visible. | CX4: Information about the user's location within a set of Web pages is available. | CZ4: A mechanism is available to allow the purpose of each link to be identified from link text alone, except where the purpose of the link would be ambiguous to users in general. | DB4: Section headings are used to organize the content. | DD4: This guideline ensures that interactive elements on a web page can be accessed and used without requiring complex gestures (such as pinching, dragging, or multi-touch swiping) that might be difficult for some users, particularly those with physical disabilities. | DF4: This guideline ensures that users can cancel, stop, or undo actions initiated by a pointer (e.g., mouse, touchscreen, or stylus) before they are completed. | DH4: Ensuring that user interface components, such as form fields, buttons, and links, are correctly programmatically labeled so that they can be understood by assistive technologies. | DJ4: Functionality that can be operated by device motion or user motion can also be operated by user interface components and responding to the motion can be disabled to prevent accidental actuation. | DL4: The size of the target for pointer inputs is at least 44 by 44 CSS pixels. | DN4: Web content does not restrict use of input modalities available on a platform except where the restriction is essential, required to ensure the security of the content, or required to respect user settings. | DP4: The default human language of each Web page can be programmatically determined. | DR4: The human language of each passage or phrase in the content can be programmatically determined except for proper names, technical terms, words of indeterminate language, and words or phrases that have become part of the vernacular of the immediately surrounding text. Eg. <p lang="fr">Ceci est un paragraphe en français.</p> | DT4: A mechanism is available for identifying specific definitions of words or phrases used in an unusual or restricted way, including idioms and jargon. | DV4: A mechanism for identifying the expanded form or meaning of abbreviations is available. | DX4: When text requires reading ability more advanced than the lower secondary education level after removal of proper names and titles, supplemental content, or a version that does not require reading ability more advanced than the lower secondary education level, is available. | DZ4: A mechanism is available for identifying specific pronunciation of words where meaning of the words, in context, is ambiguous without knowing the pronunciation. | EB4: When any user interface component receives focus, it does not initiate a change of context (without user triggering it). For example open an image or popup when button receive focus. | ED4: Changing the setting of any user interface component does not automatically cause a change of context unless the user has been advised of the behavior before using the component. | EF4: Navigational mechanisms that are repeated on multiple Web pages within a set of Web pages occur in the same relative order each time they are repeated, unless a change is initiated by the user. | EH4: Components that have the same functionality within a set of Web pages are identified consistently. | EJ4: Changes of context are initiated only by user request or a mechanism is available to turn off such changes. | EL4: If an input error is automatically detected, the item that is in error is identified and the error is described to the user in text. | EN4: Labels or instructions are provided when content requires user input. | EP4: If an input error is automatically detected and suggestions for correction are known, then the suggestions are provided to the user, unless it would jeopardize the security or purpose of the content. | ER4: For Web pages that cause legal commitments or financial transactions for the user to occur, that modify or delete user-controllable data in data storage systems, or that submit user test responses. | ET4: Context-sensitive help is available. | EV4: For Web pages that require the user to submit information. | EX4: In content implemented using markup languages, elements have complete start and end tags, elements are nested according to their specifications, elements do not contain duplicate attributes, and any IDs are unique, except where the specifications allow these features. | EZ4: For all user interface components (including but not limited to: form elements, links and components generated by scripts), the name and role can be programmatically determined; states, properties, and values that can be set by the user can be programmatically set; and notification of changes to these items is available to user agents, including assistive technologies. | FB4: In content implemented using markup languages, status messages can be programmatically determined through role or properties such that they can be presented to the user by assistive technologies without receiving focus.
D5: Level A | F5: Level A | H5: Level A | J5: Level A | L5: Level AA | N5: Level AA | P5: Level AAA | R5: Level AAA | T5: Level AAA | V5: Level AAA | X5: Level A | Z5: Level A | AB5: Level A | AD5: Level AA | AF5: Level AA | AH5: Level AAA | AJ5: Level A | AL5: Level A | AN5: Level AA | AP5: Level AA | AR5: Level AA | AT5: Level AAA | AV5: Level AAA | AX5: Level AAA | AZ5: Level AAA | BB5: Level AA | BD5: Level AA | BF5: Level AA | BH5: Level AA | BJ5: Level A | BL5: Level A | BN5: Level AAA | BP5: Level A | BR5: Level A | BT5: Level A | BV5: Level AAA | BX5: Level AAA | BZ5: Level AAA | CB5: Level AAA | CD5: Level A | CF5: Level AAA | CH5: Level AAA | CJ5: Level A | CL5: Level A | CN5: Level A | CP5: Level A | CR5: Level AA | CT5: Level AA | CV5: Level AA | CX5: Level AAA | CZ5: Level AAA | DB5: Level AAA | DD5: Level A | DF5: Level A | DH5: Level A | DJ5: Level A | DL5: Level AAA | DN5: Level AAA | DP5: Level A | DR5: Level AA | DT5: Level AAA | DV5: Level AAA | DX5: Level AAA | DZ5: Level AAA | EB5: Level A | ED5: Level A | EF5: Level AA | EH5: Level AA | EJ5: Level AAA | EL5: Level A | EN5: Level A | EP5: Level AA | ER5: Level AA | ET5: Level AAA | EV5: Level AAA | EX5: Level A | EZ5: Level A | FB5: Level AA
D6: Auto / Tool | E6: Comments | F6: Manual | G6: Comments | H6: Manual | I6: Comments | J6: Manual | K6: Comments | L6: Manual | M6: Comments | N6: Manual | O6: Comments | P6: Manual | Q6: Comments | R6: Manual | S6: Comments | T6: Manual | U6: Comments | V6: Manual | W6: Comments | X6: Manual | Y6: Comment | Z6: Manual | AA6: Comments | AB6: Manual | AC6: Comments | AD6: Manual | AE6: Comments | AF6: Manual | AG6: Comments | AH6: Auto / Tool | AI6: Comments | AJ6: Manual | AK6: Comments | AL6: Manual | AM6: Comments | AN6: Auto / Tool | AO6: Comments | AP6: Manual | AQ6: Comments | AR6: Manual | AS6: Comments | AT6: Auto / Tool | AU6: Comments | AV6: Manual | AW6: Comments | AX6: Manual | AY6: Comments | AZ6: Manual | BA6: Comments | BB6: Manual | BC6: Comments | BD6: Auto / Tool | BE6: Comments | BF6: Manual | BG6: Comments | BH6: Manual | BI6: Comments | BJ6: Manual | BK6: Comments | BL6: Manual | BM6: Comments | BN6: Auto / Tool | BO6: Comments | BP6: Manual | BQ6: Comments | BR6: Manual | BS6: Comments | BT6: Manual | BU6: Comments | BV6: Manual | BW6: Comments | BX6: Manual | BY6: Comments | BZ6: Manual | CA6: Comments | CB6: Manual | CC6: Comments | CD6: Auto / Tool | CE6: Comments | CF6: Auto / Tool | CG6: Comments | CH6: Manual | CI6: Comments | CJ6: Manual | CK6: Comments | CL6: Auto / Tool | CM6: Comments | CN6: Manual | CO6: Comments | CP6: Manual | CQ6: Comments | CR6: Manual | CS6: Comments | CT6: Auto / Tool | CU6: Comments | CV6: Auto / Tool | CW6: Comments | CX6: Manual | CY6: Comments | CZ6: Auto / Tool | DA6: Comments | DB6: Auto / Tool | DC6: Comments | DD6: Manual | DE6: Comments | DF6: Manual | DG6: Comments | DH6: Auto / Tool | DI6: Comments | DJ6: Manual | DK6: Comments | DL6: Auto / Tool | DM6: Comments | DN6: Auto / Tool | DO6: Comments | DP6: Auto / Tool | DQ6: Comments | DR6: Auto / Tool | DS6: Comments | DT6: Manual | DU6: Comments | DV6: Auto / Tool | DW6: Comments | DX6: Manual | DY6: Comments | DZ6: Manual | EA6: Comments | EB6: Manual | EC6: Comments | ED6: Tool | EE6: Comments | EF6: Manual | EG6: Comments | EH6: Manual | EI6: Comments | EJ6: Auto / Tool | EK6: Comments | EL6: Manual | EM6: Comments | EN6: Auto / Tool | EO6: Comments | EP6: Manual | EQ6: Comments | ER6: Manual | ES6: Comments | ET6: Manual | EU6: Comments | EV6: Manual | EW6: Comments | EX6: Auto / Tool | EY6: Comments | EZ6: Auto / Tool | FA6: Comments | FB6: Auto / Tool | FC6: Comments
A7: 1 | B7: RITM Login Page | D7: Not supported | E7: The image on the top left corner is missing. Make sure it has appropriate alt text. | F7: Not applicable | H7: Not applicable | J7: Not applicable | L7: Not applicable | N7: Not applicable | P7: Not applicable | R7: Not applicable | T7: Not applicable | V7: Not applicable | X7: Not supported | Y7: Ensure the autocomplete attribute is correct and suitable for the form field. Issue found on Password text field. | Z7: Support | AB7: Not applicable | AD7: Support | AF7: Support | AH7: Not applicable | AJ7: Not applicable | AL7: Not applicable | AN7: Not supported | AO7: All the white text with orange background is not meeting the critieria of contast 4.5:1 | AP7: Support | AR7: Support | AT7: Not applicable | AV7: Not applicable | AX7: Not applicable | AZ7: Not applicable | BB7: Support | BD7: Support | BF7: Not applicable | BH7: Support | BJ7: Not supported | BK7: Not all the elements are accessible with keyboard. The language selector on top right corner is not accessible. The image on top left cornerr is not visible but it still getting keybord focus. | BL7: Support | BN7: Not applicable | BP7: Not applicable | BR7: Not applicable | BT7: Not applicable | BV7: Not applicable | BX7: Not applicable | BZ7: Not applicable | CB7: Not applicable | CD7: Not applicable | CF7: Not applicable | CH7: Not applicable | CJ7: Not applicable | CL7: Partially supports | CM7: There is one <h1> on the login page. It should say about the login page or action that user have to perform. | CN7: Partially supports | CO7: Some of the elements are not showing focus. | CP7: Not supported | CQ7: The links on the page does not contain logical purpose of the links. | CR7: Not applicable | CT7: Partially supports | CU7: The headings and labels on this page need to be reviewed. For example the <h1> heading says 'Welcome to OneWelcome' instead of telling the user that they are on Login page. | CV7: Partially supports | CW7: Some of the elements are not showing focus. | CX7: Not applicable | CZ7: Not applicable | DB7: Not applicable | DD7: Not applicable | DF7: Not supported | DG7: User is unable to cancel the process that once initiated. For example, after initiating login it was not cancelled by pressing Esc. | DH7: Support | DJ7: Not applicable | DL7: Not applicable | DN7: Not applicable | DP7: Not supported | DQ7: The application does not detect the preferred browser language. | DR7: Not applicable | DT7: Not applicable | DV7: Not applicable | DX7: Not applicable | DZ7: Not applicable | EB7: Support | ED7: Support | EF7: Not applicable | EH7: Not applicable | EJ7: Not applicable | EL7: Not supported | EM7: The errors (validation error when email or password is left blank) are not accessible with assistive technology. | EN7: Partially supports | EO7: Most of the elements have correct labels. The eye icon on password does not announce that it will show the password. It only says 'Button' | EP7: Support | ER7: Not applicable | ET7: Not applicable | EV7: Not applicable | EX7: Support | EZ7: Not supported | FA7: To solve this problem, you need to fix the following: ARIA attribute is not allowed: aria-required="true" | FB7: Not applicable
D8: Not checked | F8: Not checked | H8: Not checked | J8: Not checked | L8: Not checked | N8: Not checked | P8: Not applicable | R8: Not applicable | T8: Not applicable | V8: Not applicable | X8: Not checked | Z8: Not checked | AB8: Not checked | AD8: Not checked | AF8: Not checked | AH8: Not applicable | AJ8: Not checked | AL8: Not checked | AN8: Not checked | AP8: Not checked | AR8: Not checked | AT8: Not applicable | AV8: Not applicable | AX8: Not applicable | AZ8: Not applicable | BB8: Not checked | BD8: Not checked | BF8: Not checked | BH8: Not checked | BJ8: Not checked | BL8: Not checked | BN8: Not applicable | BP8: Not checked | BR8: Not checked | BT8: Not checked | BV8: Not applicable | BX8: Not applicable | BZ8: Not applicable | CB8: Not applicable | CD8: Not checked | CF8: Not applicable | CH8: Not applicable | CJ8: Not checked | CL8: Not checked | CN8: Not checked | CP8: Not checked | CR8: Not checked | CT8: Not checked | CV8: Not checked | CX8: Not applicable | CZ8: Not applicable | DB8: Not applicable | DD8: Not checked | DF8: Not checked | DH8: Not checked | DJ8: Not checked | DL8: Not applicable | DN8: Not applicable | DP8: Not checked | DR8: Not checked | DT8: Not applicable | DV8: Not applicable | DX8: Not applicable | DZ8: Not applicable | EB8: Not checked | ED8: Not checked | EF8: Not checked | EH8: Not checked | EJ8: Not applicable | EL8: Not checked | EN8: Not checked | EP8: Not checked | ER8: Not checked | ET8: Not applicable | EV8: Not applicable | EX8: Not checked | EZ8: Not checked | FB8: Not checked
D9: Not checked | F9: Not checked | H9: Not checked | J9: Not checked | L9: Not checked | N9: Not checked | P9: Not applicable | R9: Not applicable | T9: Not applicable | V9: Not applicable | X9: Not checked | Z9: Not checked | AB9: Not checked | AD9: Not checked | AF9: Not checked | AH9: Not applicable | AJ9: Not checked | AL9: Not checked | AN9: Not checked | AP9: Not checked | AR9: Not checked | AT9: Not applicable | AV9: Not applicable | AX9: Not applicable | AZ9: Not applicable | BB9: Not checked | BD9: Not checked | BF9: Not checked | BH9: Not checked | BJ9: Not checked | BL9: Not checked | BN9: Not applicable | BP9: Not checked | BR9: Not checked | BT9: Not checked | BV9: Not applicable | BX9: Not applicable | BZ9: Not applicable | CB9: Not applicable | CD9: Not checked | CF9: Not applicable | CH9: Not applicable | CJ9: Not checked | CL9: Not checked | CN9: Not checked | CP9: Not checked | CR9: Not checked | CT9: Not checked | CV9: Not checked | CX9: Not applicable | CZ9: Not applicable | DB9: Not applicable | DD9: Not checked | DF9: Not checked | DH9: Not checked | DJ9: Not checked | DL9: Not applicable | DN9: Not applicable | DP9: Not checked | DR9: Not checked | DT9: Not applicable | DV9: Not applicable | DX9: Not applicable | DZ9: Not applicable | EB9: Not checked | ED9: Not checked | EF9: Not checked | EH9: Not checked | EJ9: Not applicable | EL9: Not checked | EN9: Not checked | EP9: Not checked | ER9: Not checked | ET9: Not applicable | EV9: Not applicable | EX9: Not checked | EZ9: Not checked | FB9: Not checked
D10: Not checked | F10: Not checked | H10: Not checked | J10: Not checked | L10: Not checked | N10: Not checked | P10: Not applicable | R10: Not applicable | T10: Not applicable | V10: Not applicable | X10: Not checked | Z10: Not checked | AB10: Not checked | AD10: Not checked | AF10: Not checked | AH10: Not applicable | AJ10: Not checked | AL10: Not checked | AN10: Not checked | AP10: Not checked | AR10: Not checked | AT10: Not applicable | AV10: Not applicable | AX10: Not applicable | AZ10: Not applicable | BB10: Not checked | BD10: Not checked | BF10: Not checked | BH10: Not checked | BJ10: Not checked | BL10: Not checked | BN10: Not applicable | BP10: Not checked | BR10: Not checked | BT10: Not checked | BV10: Not applicable | BX10: Not applicable | BZ10: Not applicable | CB10: Not applicable | CD10: Not checked | CF10: Not applicable | CH10: Not applicable | CJ10: Not checked | CL10: Not checked | CN10: Not checked | CP10: Not checked | CR10: Not checked | CT10: Not checked | CV10: Not checked | CX10: Not applicable | CZ10: Not applicable | DB10: Not applicable | DD10: Not checked | DF10: Not checked | DH10: Not checked | DJ10: Not checked | DL10: Not applicable | DN10: Not applicable | DP10: Not checked | DR10: Not checked | DT10: Not applicable | DV10: Not applicable | DX10: Not applicable | DZ10: Not applicable | EB10: Not checked | ED10: Not checked | EF10: Not checked | EH10: Not checked | EJ10: Not applicable | EL10: Not checked | EN10: Not checked | EP10: Not checked | ER10: Not checked | ET10: Not applicable | EV10: Not applicable | EX10: Not checked | EZ10: Not checked | FB10: Not checked
D11: Not checked | F11: Not checked | H11: Not checked | J11: Not checked | L11: Not checked | N11: Not checked | P11: Not applicable | R11: Not applicable | T11: Not applicable | V11: Not applicable | X11: Not checked | Z11: Not checked | AB11: Not checked | AD11: Not checked | AF11: Not checked | AH11: Not applicable | AJ11: Not checked | AL11: Not checked | AN11: Not checked | AP11: Not checked | AR11: Not checked | AT11: Not applicable | AV11: Not applicable | AX11: Not applicable | AZ11: Not applicable | BB11: Not checked | BD11: Not checked | BF11: Not checked | BH11: Not checked | BJ11: Not checked | BL11: Not checked | BN11: Not applicable | BP11: Not checked | BR11: Not checked | BT11: Not checked | BV11: Not applicable | BX11: Not applicable | BZ11: Not applicable | CB11: Not applicable | CD11: Not checked | CF11: Not applicable | CH11: Not applicable | CJ11: Not checked | CL11: Not checked | CN11: Not checked | CP11: Not checked | CR11: Not checked | CT11: Not checked | CV11: Not checked | CX11: Not applicable | CZ11: Not applicable | DB11: Not applicable | DD11: Not checked | DF11: Not checked | DH11: Not checked | DJ11: Not checked | DL11: Not applicable | DN11: Not applicable | DP11: Not checked | DR11: Not checked | DT11: Not applicable | DV11: Not applicable | DX11: Not applicable | DZ11: Not applicable | EB11: Not checked | ED11: Not checked | EF11: Not checked | EH11: Not checked | EJ11: Not applicable | EL11: Not checked | EN11: Not checked | EP11: Not checked | ER11: Not checked | ET11: Not applicable | EV11: Not applicable | EX11: Not checked | EZ11: Not checked | FB11: Not checked
D12: Not checked | F12: Not checked | H12: Not checked | J12: Not checked | L12: Not checked | N12: Not checked | P12: Not applicable | R12: Not applicable | T12: Not applicable | V12: Not applicable | X12: Not checked | Z12: Not checked | AB12: Not checked | AD12: Not checked | AF12: Not checked | AH12: Not applicable | AJ12: Not checked | AL12: Not checked | AN12: Not checked | AP12: Not checked | AR12: Not checked | AT12: Not applicable | AV12: Not applicable | AX12: Not applicable | AZ12: Not applicable | BB12: Not checked | BD12: Not checked | BF12: Not checked | BH12: Not checked | BJ12: Not checked | BL12: Not checked | BN12: Not applicable | BP12: Not checked | BR12: Not checked | BT12: Not checked | BV12: Not applicable | BX12: Not applicable | BZ12: Not applicable | CB12: Not applicable | CD12: Not checked | CF12: Not applicable | CH12: Not applicable | CJ12: Not checked | CL12: Not checked | CN12: Not checked | CP12: Not checked | CR12: Not checked | CT12: Not checked | CV12: Not checked | CX12: Not applicable | CZ12: Not applicable | DB12: Not applicable | DD12: Not checked | DF12: Not checked | DH12: Not checked | DJ12: Not checked | DL12: Not applicable | DN12: Not applicable | DP12: Not checked | DR12: Not checked | DT12: Not applicable | DV12: Not applicable | DX12: Not applicable | DZ12: Not applicable | EB12: Not checked | ED12: Not checked | EF12: Not checked | EH12: Not checked | EJ12: Not applicable | EL12: Not checked | EN12: Not checked | EP12: Not checked | ER12: Not checked | ET12: Not applicable | EV12: Not applicable | EX12: Not checked | EZ12: Not checked | FB12: Not checked
D13: Not checked | F13: Not checked | H13: Not checked | J13: Not checked | L13: Not checked | N13: Not checked | P13: Not applicable | R13: Not applicable | T13: Not applicable | V13: Not applicable | X13: Not checked | Z13: Not checked | AB13: Not checked | AD13: Not checked | AF13: Not checked | AH13: Not applicable | AJ13: Not checked | AL13: Not checked | AN13: Not checked | AP13: Not checked | AR13: Not checked | AT13: Not applicable | AV13: Not applicable | AX13: Not applicable | AZ13: Not applicable | BB13: Not checked | BD13: Not checked | BF13: Not checked | BH13: Not checked | BJ13: Not checked | BL13: Not checked | BN13: Not applicable | BP13: Not checked | BR13: Not checked | BT13: Not checked | BV13: Not applicable | BX13: Not applicable | BZ13: Not applicable | CB13: Not applicable | CD13: Not checked | CF13: Not applicable | CH13: Not applicable | CJ13: Not checked | CL13: Not checked | CN13: Not checked | CP13: Not checked | CR13: Not checked | CT13: Not checked | CV13: Not checked | CX13: Not applicable | CZ13: Not applicable | DB13: Not applicable | DD13: Not checked | DF13: Not checked | DH13: Not checked | DJ13: Not checked | DL13: Not applicable | DN13: Not applicable | DP13: Not checked | DR13: Not checked | DT13: Not applicable | DV13: Not applicable | DX13: Not applicable | DZ13: Not applicable | EB13: Not checked | ED13: Not checked | EF13: Not checked | EH13: Not checked | EJ13: Not applicable | EL13: Not checked | EN13: Not checked | EP13: Not checked | ER13: Not checked | ET13: Not applicable | EV13: Not applicable | EX13: Not checked | EZ13: Not checked | FB13: Not checked
D14: Not checked | F14: Not checked | H14: Not checked | J14: Not checked | L14: Not checked | N14: Not checked | P14: Not applicable | R14: Not applicable | T14: Not applicable | V14: Not applicable | X14: Not checked | Z14: Not checked | AB14: Not checked | AD14: Not checked | AF14: Not checked | AH14: Not applicable | AJ14: Not checked | AL14: Not checked | AN14: Not checked | AP14: Not checked | AR14: Not checked | AT14: Not applicable | AV14: Not applicable | AX14: Not applicable | AZ14: Not applicable | BB14: Not checked | BD14: Not checked | BF14: Not checked | BH14: Not checked | BJ14: Not checked | BL14: Not checked | BN14: Not applicable | BP14: Not checked | BR14: Not checked | BT14: Not checked | BV14: Not applicable | BX14: Not applicable | BZ14: Not applicable | CB14: Not applicable | CD14: Not checked | CF14: Not applicable | CH14: Not applicable | CJ14: Not checked | CL14: Not checked | CN14: Not checked | CP14: Not checked | CR14: Not checked | CT14: Not checked | CV14: Not checked | CX14: Not applicable | CZ14: Not applicable | DB14: Not applicable | DD14: Not checked | DF14: Not checked | DH14: Not checked | DJ14: Not checked | DL14: Not applicable | DN14: Not applicable | DP14: Not checked | DR14: Not checked | DT14: Not applicable | DV14: Not applicable | DX14: Not applicable | DZ14: Not applicable | EB14: Not checked | ED14: Not checked | EF14: Not checked | EH14: Not checked | EJ14: Not applicable | EL14: Not checked | EN14: Not checked | EP14: Not checked | ER14: Not checked | ET14: Not applicable | EV14: Not applicable | EX14: Not checked | EZ14: Not checked | FB14: Not checked
D15: Not checked | F15: Not checked | H15: Not checked | J15: Not checked | L15: Not checked | N15: Not checked | P15: Not applicable | R15: Not applicable | T15: Not applicable | V15: Not applicable | X15: Not checked | Z15: Not checked | AB15: Not checked | AD15: Not checked | AF15: Not checked | AH15: Not applicable | AJ15: Not checked | AL15: Not checked | AN15: Not checked | AP15: Not checked | AR15: Not checked | AT15: Not applicable | AV15: Not applicable | AX15: Not applicable | AZ15: Not applicable | BB15: Not checked | BD15: Not checked | BF15: Not checked | BH15: Not checked | BJ15: Not checked | BL15: Not checked | BN15: Not applicable | BP15: Not checked | BR15: Not checked | BT15: Not checked | BV15: Not applicable | BX15: Not applicable | BZ15: Not applicable | CB15: Not applicable | CD15: Not checked | CF15: Not applicable | CH15: Not applicable | CJ15: Not checked | CL15: Not checked | CN15: Not checked | CP15: Not checked | CR15: Not checked | CT15: Not checked | CV15: Not checked | CX15: Not applicable | CZ15: Not applicable | DB15: Not applicable | DD15: Not checked | DF15: Not checked | DH15: Not checked | DJ15: Not checked | DL15: Not applicable | DN15: Not applicable | DP15: Not checked | DR15: Not checked | DT15: Not applicable | DV15: Not applicable | DX15: Not applicable | DZ15: Not applicable | EB15: Not checked | ED15: Not checked | EF15: Not checked | EH15: Not checked | EJ15: Not applicable | EL15: Not checked | EN15: Not checked | EP15: Not checked | ER15: Not checked | ET15: Not applicable | EV15: Not applicable | EX15: Not checked | EZ15: Not checked | FB15: Not checked
D16: Not checked | F16: Not checked | H16: Not checked | J16: Not checked | L16: Not checked | N16: Not checked | P16: Not applicable | R16: Not applicable | T16: Not applicable | V16: Not applicable | X16: Not checked | Z16: Not checked | AB16: Not checked | AD16: Not checked | AF16: Not checked | AH16: Not applicable | AJ16: Not checked | AL16: Not checked | AN16: Not checked | AP16: Not checked | AR16: Not checked | AT16: Not applicable | AV16: Not applicable | AX16: Not applicable | AZ16: Not applicable | BB16: Not checked | BD16: Not checked | BF16: Not checked | BH16: Not checked | BJ16: Not checked | BL16: Not checked | BN16: Not applicable | BP16: Not checked | BR16: Not checked | BT16: Not checked | BV16: Not applicable | BX16: Not applicable | BZ16: Not applicable | CB16: Not applicable | CD16: Not checked | CF16: Not applicable | CH16: Not applicable | CJ16: Not checked | CL16: Not checked | CN16: Not checked | CP16: Not checked | CR16: Not checked | CT16: Not checked | CV16: Not checked | CX16: Not applicable | CZ16: Not applicable | DB16: Not applicable | DD16: Not checked | DF16: Not checked | DH16: Not checked | DJ16: Not checked | DL16: Not applicable | DN16: Not applicable | DP16: Not checked | DR16: Not checked | DT16: Not applicable | DV16: Not applicable | DX16: Not applicable | DZ16: Not applicable | EB16: Not checked | ED16: Not checked | EF16: Not checked | EH16: Not checked | EJ16: Not applicable | EL16: Not checked | EN16: Not checked | EP16: Not checked | ER16: Not checked | ET16: Not applicable | EV16: Not applicable | EX16: Not checked | EZ16: Not checked | FB16: Not checked
D17: Not checked | F17: Not checked | H17: Not checked | J17: Not checked | L17: Not checked | N17: Not checked | P17: Not applicable | R17: Not applicable | T17: Not applicable | V17: Not applicable | X17: Not checked | Z17: Not checked | AB17: Not checked | AD17: Not checked | AF17: Not checked | AH17: Not applicable | AJ17: Not checked | AL17: Not checked | AN17: Not checked | AP17: Not checked | AR17: Not checked | AT17: Not applicable | AV17: Not applicable | AX17: Not applicable | AZ17: Not applicable | BB17: Not checked | BD17: Not checked | BF17: Not checked | BH17: Not checked | BJ17: Not checked | BL17: Not checked | BN17: Not applicable | BP17: Not checked | BR17: Not checked | BT17: Not checked | BV17: Not applicable | BX17: Not applicable | BZ17: Not applicable | CB17: Not applicable | CD17: Not checked | CF17: Not applicable | CH17: Not applicable | CJ17: Not checked | CL17: Not checked | CN17: Not checked | CP17: Not checked | CR17: Not checked | CT17: Not checked | CV17: Not checked | CX17: Not applicable | CZ17: Not applicable | DB17: Not applicable | DD17: Not checked | DF17: Not checked | DH17: Not checked | DJ17: Not checked | DL17: Not applicable | DN17: Not applicable | DP17: Not checked | DR17: Not checked | DT17: Not applicable | DV17: Not applicable | DX17: Not applicable | DZ17: Not applicable | EB17: Not checked | ED17: Not checked | EF17: Not checked | EH17: Not checked | EJ17: Not applicable | EL17: Not checked | EN17: Not checked | EP17: Not checked | ER17: Not checked | ET17: Not applicable | EV17: Not applicable | EX17: Not checked | EZ17: Not checked | FB17: Not checked
D18: Not checked | F18: Not checked | H18: Not checked | J18: Not checked | L18: Not checked | N18: Not checked | P18: Not applicable | R18: Not applicable | T18: Not applicable | V18: Not applicable | X18: Not checked | Z18: Not checked | AB18: Not checked | AD18: Not checked | AF18: Not checked | AH18: Not applicable | AJ18: Not checked | AL18: Not checked | AN18: Not checked | AP18: Not checked | AR18: Not checked | AT18: Not applicable | AV18: Not applicable | AX18: Not applicable | AZ18: Not applicable | BB18: Not checked | BD18: Not checked | BF18: Not checked | BH18: Not checked | BJ18: Not checked | BL18: Not checked | BN18: Not applicable | BP18: Not checked | BR18: Not checked | BT18: Not checked | BV18: Not applicable | BX18: Not applicable | BZ18: Not applicable | CB18: Not applicable | CD18: Not checked | CF18: Not applicable | CH18: Not applicable | CJ18: Not checked | CL18: Not checked | CN18: Not checked | CP18: Not checked | CR18: Not checked | CT18: Not checked | CV18: Not checked | CX18: Not applicable | CZ18: Not applicable | DB18: Not applicable | DD18: Not checked | DF18: Not checked | DH18: Not checked | DJ18: Not checked | DL18: Not applicable | DN18: Not applicable | DP18: Not checked | DR18: Not checked | DT18: Not applicable | DV18: Not applicable | DX18: Not applicable | DZ18: Not applicable | EB18: Not checked | ED18: Not checked | EF18: Not checked | EH18: Not checked | EJ18: Not applicable | EL18: Not checked | EN18: Not checked | EP18: Not checked | ER18: Not checked | ET18: Not applicable | EV18: Not applicable | EX18: Not checked | EZ18: Not checked | FB18: Not checked
D19: Not checked | F19: Not checked | H19: Not checked | J19: Not checked | L19: Not checked | N19: Not checked | P19: Not applicable | R19: Not applicable | T19: Not applicable | V19: Not applicable | X19: Not checked | Z19: Not checked | AB19: Not checked | AD19: Not checked | AF19: Not checked | AH19: Not applicable | AJ19: Not checked | AL19: Not checked | AN19: Not checked | AP19: Not checked | AR19: Not checked | AT19: Not applicable | AV19: Not applicable | AX19: Not applicable | AZ19: Not applicable | BB19: Not checked | BD19: Not checked | BF19: Not checked | BH19: Not checked | BJ19: Not checked | BL19: Not checked | BN19: Not applicable | BP19: Not checked | BR19: Not checked | BT19: Not checked | BV19: Not applicable | BX19: Not applicable | BZ19: Not applicable | CB19: Not applicable | CD19: Not checked | CF19: Not applicable | CH19: Not applicable | CJ19: Not checked | CL19: Not checked | CN19: Not checked | CP19: Not checked | CR19: Not checked | CT19: Not checked | CV19: Not checked | CX19: Not applicable | CZ19: Not applicable | DB19: Not applicable | DD19: Not checked | DF19: Not checked | DH19: Not checked | DJ19: Not checked | DL19: Not applicable | DN19: Not applicable | DP19: Not checked | DR19: Not checked | DT19: Not applicable | DV19: Not applicable | DX19: Not applicable | DZ19: Not applicable | EB19: Not checked | ED19: Not checked | EF19: Not checked | EH19: Not checked | EJ19: Not applicable | EL19: Not checked | EN19: Not checked | EP19: Not checked | ER19: Not checked | ET19: Not applicable | EV19: Not applicable | EX19: Not checked | EZ19: Not checked | FB19: Not checked
... D21: Not checked | F21: Not checked | H21: Not checked | J21: Not checked | L21: Not checked | N21: Not checked | P21: Not applicable | R21: Not applicable | T21: Not applicable | V21: Not applicable | X21: Not checked | Z21: Not checked | AB21: Not checked | AD21: Not checked | AF21: Not checked | AH21: Not applicable | AJ21: Not checked | AL21: Not checked | AN21: Not checked | AP21: Not checked | AR21: Not checked | AT21: Not applicable | AV21: Not applicable | AX21: Not applicable | AZ21: Not applicable | BB21: Not checked | BD21: Not checked | BF21: Not checked | BH21: Not checked | BJ21: Not checked | BL21: Not checked | BN21: Not applicable | BP21: Not checked | BR21: Not checked | BT21: Not checked | BV21: Not applicable | BX21: Not applicable | BZ21: Not applicable | CB21: Not applicable | CD21: Not checked | CF21: Not applicable | CH21: Not applicable | CJ21: Not checked | CL21: Not checked | CN21: Not checked | CP21: Not checked | CR21: Not checked | CT21: Not checked | CV21: Not checked | CX21: Not applicable | CZ21: Not applicable | DB21: Not applicable | DD21: Not checked | DF21: Not checked | DH21: Not checked | DJ21: Not checked | DL21: Not applicable | DN21: Not applicable | DP21: Not checked | DR21: Not checked | DT21: Not applicable | DV21: Not applicable | DX21: Not applicable | DZ21: Not applicable | EB21: Not checked | ED21: Not checked | EF21: Not checked | EH21: Not checked | EJ21: Not applicable | EL21: Not checked | EN21: Not checked | EP21: Not checked | ER21: Not checked | ET21: Not applicable | EV21: Not applicable | EX21: Not checked | EZ21: Not checked | FB21: Not checked

Sheet VPAT (WIP)
